Workbook

Sheet Facebook General
B1: Facebook General
A4: الشركة | B4: اللينك | C4: عدد المتابعين | D4: نسبة كل شركة | E4: زرار الصفحة الأساسي | F4: عدد الTabs | G4: ترتيب الTabs | H4: About | I4: Other Social Links | J4: Reviews | K4: كام واحد ماسك الصفحة | L4: Cover Photo متغير | M4: Logo متغير حسب المناسبات | N4: متفاعل مع الناس | O4: نقاط القوة | P4: نقاط الضعف | Q4: الترشيحات
A5: المجموعة الاستشارية للمحاسبة و الضرائب | B5: https://www.facebook.com/acconutants | C5: 4000 | D5: =C5/$C$20 -> 0.012391228 | E5: whatsapp | F5: 18 | G5: post-about-mention-reviews-service-followers-photos-videos-live music-questions-check-ins-sports-films-tv programs-books-likes-reviews given | H5: لا يوجد | I5: website | J5: مفيش | K5: 2 | L5: NO | M5: NO | N5: NO | O5: مفيش | P5: لا يوجد ظهور الكترونى | Q5: 1- عمل هوية الكترونية 2- نحاول نزود عدد المتابعين 3- تسهيل الوصول عن طريق زرار الواتس اب 4- Home - About -Service - Photos - Vidoes 5- ننظمله الAbout ( الخدمات والمكان وسابقة الاعمال شركتين مثلا وقت الانشاء) 6- ننظبط ان احنا نضيف كل لينكات السوشيال الميديا 7- كافر يبقي متغير (الخدمات - مناسبات - اكبر الشركات اللي اشتغل - الاحتفالات والEvents - خدمات جديدة - التركيز علي خدمة معينة) 8- في حلين لده (ان يبقي فيه شخص بيرد بطريقة معينة علي الناس وبيرد باستمرار - Automation)
D6: =C6/$C$20 -> 0
D7: =C7/$C$20 -> 0
A8: مكتب مصطفى عليوه المحاسب القانونى | B8: https://www.facebook.com/Mohasebqanony | C8: 11000 | D8: =C8/$C$20 -> 0.034075878 | E8: message | F8: 18 | G8: post-about-mention-reviews-service-followers-photos-videos-live music-questions-check-ins-sports-films-tv programs-books-likes-reviews given | H8: لا يوجد | I8: website | J8: 29 reviews (4.6) | K8: 4 | L8: no | M8: no | N8: no | O8: website - reviews | P8: no about - no service-
D9: =C9/$C$20 -> 0
D10: =C10/$C$20 -> 0
A11: RS / Financial Services | B11: https://www.facebook.com/rspaac/ | C11: 301009 | D11: =C11/$C$20 -> 0.93246781 | E11: whatsapp | F11: 8 | G11: home-services-photos-videos-events-community-groups-about | H11: نقوم بتقديم جميع الخدمات المالية 1- للشركات من امساك للدفاتر والخدمات الضريبية 2 - وللافراد ورش عمل تدريبية على مهارات المحاسبة | I11: instagram-linkedin-youtube | J11: no | K11: egypt (11) usa(1) | L11: no | M11: no | N11: yes | O11: co op with people minds and trends
D12: =C12/$C$20 -> 0 | H12: 1- للشركات من امساك للدفاتر والخدمات الضريبية
D13: =C13/$C$20 -> 0 | H13: 2 - وللافراد ورش عمل تدريبية على مهارات المحاسبة
A14: نور ابو زيد - محاسبون قانونيون و مستشارون | B14: https://www.facebook.com/nourabozied.office1/ | C14: 1500 | D14: =C14/$C$20 -> 0.0046467106 | E14: fb | F14: 18 | G14: post-about-mentions-review-followers-photos-videos-live-music-questions-checkins-sports-films-tvprogrammes-books-likes-reviewgiven | H14: no | I14: websiteonly | J14: no | K14: 9 | L14: no | M14: no | N14: no | O14: website | P14: no other social links - few followers
D15: =C15/$C$20 -> 0
D16: =C16/$C$20 -> 0
A17: OSS Middle East For Quality Certificates | B17: https://www.facebook.com/OSS4QualityAssurance | C17: 5300 | D17: =C17/$C$20 -> 0.016418377 | E17: callnow | F17: 18 | G17: post-about-mention-reviews-service-followers-photos-videos-live music-questions-check-ins-sports-films-tv programs-books-likes-reviews given | H17: no | I17: websiteonly | J17: one review without rate | K17: 7 | L17: no | M17: no | N17: no | O17: website | P17: social links on website only
D18: =C18/C32 -> #DIV/0!
D19: =C19/C33 -> #DIV/0!
C20: =SUM(C5:C17) -> 322809

Sheet Facebook Shop & Tabs
B1: Facebook Shop & Tabs
A4: الشركة | B4: اللينك | C4: Service | D4: عدد السيكشن | E4: نوع السيكشن | F4: بتحول ماسنجر او ويب سايت | G4: Tabs غريبة | H4: نوع الTab | I4: طريقة شغلها | J4: نقاط القوة | K4: نقاط الضعف | L4: الترشيحات
A5: ='Facebook General'!A5 -> المجموعة الاستشارية للمحاسبة و الضرائب | B5: ='Facebook General'!B5 -> https://www.facebook.com/acconutants | C5: yes | D5: 7 | E5: الخدمات المحاسبية - خدمات الضرائب -تأسيس الشركات -خدمة المراجعة الداخلية-خدمة المراجعة الخارجية-قضاية الأموال العامة | F5: messenger | G5: no | H5: no | I5: no | J5: many service | L5: 1- الخدمات بشرحها وطريقة التواصل هتبقي ماسنجر
A6: ='Facebook General'!A6 -> 0 | B6: ='Facebook General'!B6 -> 0
A7: ='Facebook General'!A7 -> 0 | B7: ='Facebook General'!B7 -> 0
A8: ='Facebook General'!A8 -> مكتب مصطفى عليوه المحاسب القانونى | B8: ='Facebook General'!B8 -> https://www.facebook.com/Mohasebqanony | C8: yes | D8: 1 | E8: أعمال المحاسبة والمراجعة _ شهادات | F8: book appointment | G8: no | H8: no | I8: no | K8: one service only
A9: ='Facebook General'!A9 -> 0 | B9: ='Facebook General'!B9 -> 0
A10: ='Facebook General'!A10 -> 0 | B10: ='Facebook General'!B10 -> 0
A11: ='Facebook General'!A11 -> RS / Financial Services | B11: ='Facebook General'!B11 -> https://www.facebook.com/rspaac/ | C11: yes | D11: 5 | E11: خبير ضرائب-البرنامج المحاسبي الشامل-تكاليف-ورشه المحاسب المالي - ورشة الاكسيل المتقدم | F11: messenger | G11: no | H11: no | I11: no | J11: varity in services
A12: ='Facebook General'!A12 -> 0 | B12: ='Facebook General'!B12 -> 0
A13: ='Facebook General'!A13 -> 0 | B13: ='Facebook General'!B13 -> 0
A14: ='Facebook General'!A14 -> نور ابو زيد - محاسبون قانونيون و مستشارون | B14: ='Facebook General'!B14 -> https://www.facebook.com/nourabozied.office1/ | C14: no | D14: no | E14: no | F14: no | G14: no | H14: no | I14: no | J14: no | K14: no services
A15: ='Facebook General'!A15 -> 0 | B15: ='Facebook General'!B15 -> 0
A16: ='Facebook General'!A16 -> 0 | B16: ='Facebook General'!B16 -> 0
A17: ='Facebook General'!A17 -> OSS Middle East For Quality Certificates | B17: ='Facebook General'!B17 -> https://www.facebook.com/OSS4QualityAssurance | C17: no | D17: no | E17: no | F17: no | G17: no | H17: no | I17: no | K17: no services
A18: ='Facebook General'!A18 -> 0 | B18: ='Facebook General'!B18 -> 0
A19: ='Facebook General'!A19 -> 0 | B19: ='Facebook General'!B19 -> 0

Sheet Facebook ads
B1: Facebook Ads
G3: متقسم وكتهندل ولا كله ورا بعضه وفي Headline ولا تحسه موضوع واحد كده | H3: ايه النقط اللي هما بيكتبوها في البوستات (سعر المتر - مساحات الشقة - مكان مميز - الخ..)
A4: الشركة | B4: اللينك | C4: عدد الإعلانات | D4: نوع الإعلان | E4: زرار الإعلان | F4: Platforms | G4: تقسيمة الكتابة | H4: أفكار الكتابة | I4: نوع الصور | J4: افكار الصور | K4: نوع الفيديو | L4: افكار الفيديو | M4: العروض | N4: المسابقات | O4: يوم بداية الاعلان | P4: نقاط القوة | Q4: نقاط الضعف | R4: الترشيحات
A5: ='Facebook General'!A5 -> المجموعة الاستشارية للمحاسبة و الضرائب | B5: ='Facebook General'!B5 -> https://www.facebook.com/acconutants | C5: لايوجد | R5: 1- الObjectives المقترحة (Send Messages - Engagement (Post Engagement - Page Like) - Reach - Leads - Traffic - Conversion - Profile Visit Instagram - Search - Display - Youtube - Email Marketing) 2- البلات فورم اللي ممكن نشتغل عليها اعلانات (Facebook - Instagram - Linkedin - Google) 3- طريقة الكتابة (Head,Body,CTA - Body,CTA) 4- افكار الاعلانات (احنا مين - بنقدم ايه - ليه تختارنا - مين شركائنا - مين صاحب الشركة - شهادة عملائنا - شرح لكل خدمة بنقدمها - Tips & Tricks - ازاي - Influencers) 5- نوع الكرييتيف (Collection - Carousel - Single Image - Cover Album - Reels - Videos - GIF) 6- نوع المحتوي (Graphic - Live - Recorded - Work Enviroment Images - Certificates) 7- مسابقات ( سؤال في المجال= استشارة مجانية - اسئلة علي مدار رمضان =ينزل Training علي حسب الScore) 8- الفئة المستهدفة ( طلاب الجامعات - اصحاب الStartups - اصحاب الشركات الكبيرة & رواد الاعمال - الشركات اللي حابة تغير اللي بيتعمله - الشركات الاجنبية) 9- تكوين هوية بصرية
A6: ='Facebook General'!A6 -> 0 | B6: ='Facebook General'!B6 -> 0
A7: ='Facebook General'!A7 -> 0 | B7: ='Facebook General'!B7 -> 0
A8: ='Facebook General'!A8 -> مكتب مصطفى عليوه المحاسب القانونى | B8: ='Facebook General'!B8 -> https://www.facebook.com/Mohasebqanony | C8: لا يوجد
A9: ='Facebook General'!A9 -> 0 | B9: ='Facebook General'!B9 -> 0
A10: ='Facebook General'!A10 -> 0 | B10: ='Facebook General'!B10 -> 0
A11: ='Facebook General'!A11 -> RS / Financial Services | B11: ='Facebook General'!B11 -> https://www.facebook.com/rspaac/ | C11: 6 | D11: الكل رسايل | E11: Send message | F11: facebook-instagram | G11: head-body-cta---haed only ---body-cta--- | H11: كورسات محاسبه - ورش ضرايب | I11: ديزين مكتوب عليه - صورة للطلاب | J11: نوع الخدمه ف ديزين - ديزين سوشيال للورشه اللي بتقدم-- | K11: مونتاج- تيستومنيال | L11: شرح للورشه | M11: لا يوجد | N11: لا يوجد | O11: 17-25-23-13 (2)-- 23-25(1) | P11: شغال ع تدريس الطلاب بتركيز --- شغال علي اصحاب الشركات و خوفهم من الضرايب و بكده جايب اكتر من شريحه | Q11: مش عامل عروض
A12: ='Facebook General'!A12 -> 0 | B12: ='Facebook General'!B12 -> 0
A13: ='Facebook General'!A13 -> 0 | B13: ='Facebook General'!B13 -> 0
A14: ='Facebook General'!A14 -> نور ابو زيد - محاسبون قانونيون و مستشارون | B14: ='Facebook General'!B14 -> https://www.facebook.com/nourabozied.office1/ | C14: لا يوجد
A15: ='Facebook General'!A15 -> 0 | B15: ='Facebook General'!B15 -> 0
A16: ='Facebook General'!A16 -> 0 | B16: ='Facebook General'!B16 -> 0
A17: ='Facebook General'!A17 -> OSS Middle East For Quality Certificates | B17: ='Facebook General'!B17 -> https://www.facebook.com/OSS4QualityAssurance | C17: 1 | D17: رسايل | E17: send message | F17: facebook-instagram | G17: head-body - cta | H17: كورس اونلاين | I17: ديزين سوشيال | J17: ديزين سوشيال بيشرح الخدمه | K17: لايوجد | L17: لايوجد | M17: لايوجد | N17: لايوجد | O17: 44981 | P17: بيدرس كورس iso اونلاين ز ده احتياجه كبير اوي | Q17: مش عامل عروض- و محتاج يحدد الفئه اللي هتاخد الكورس
A18: ='Facebook General'!A18 -> 0 | B18: ='Facebook General'!B18 -> 0
A19: ='Facebook General'!A19 -> 0 | B19: ='Facebook General'!B19 -> 0

Sheet Facebook Content
B1: Facebook Content
L3: موحدين سكريبت في الكتابة وبيغيرو في حاجة معينة ولا كل مره بطريقة | M3: متقسم وكتهندل ولا كله ورا بعضه وفي Headline ولا تحسه موضوع واحد كده | N3: ايه النقط اللي هما بيكتبوها في البوستات (سعر المتر - مساحات الشقة - مكان مميز - الخ..)
A4: الشركة | B4: اللينك | C4: pin post | D4: الشهر | E4: عدد البوستات | F4: نوع البوستات | G4: نوع الصور | H4: توقيت تنزيل البوستات | I4: كام بوست عليه اكتر من 40 لايك | J4: اكتر نوع بوستات عليها لايكات | K4: زرار البوستات | L4: سكريبت للكتابة | M4: طريقة الكتابة | N4: أفكار الكتابة | O4: عدد اللينكات في البوست | P4: نوع اللينكات | Q4: بيخاطب فئة معينة | R4: عندهم هوية محددة للديزاين | S4: مستخدمين الوان اللوجو | T4: كام لون مستخدم في الديزاين | U4: الوان متناسقة | V4: نقاط القوة | W4: نقاط الضعف | X4: الترشيحات
A5: ='Facebook General'!A5 -> المجموعة الاستشارية للمحاسبة و الضرائب | B5: ='Facebook General'!B5 -> https://www.facebook.com/acconutants | C5: Single Image تعريفي | D5: 12 | E5: 0 | F5: 0 | G5: 0 | H5: 0 | I5: 0 | J5: 0 | K5: 0 | L5: 0 | M5: 0 | N5: 0 | O5: 0 | P5: 0 | Q5: 0 | R5: 0 | S5: 0 | T5: 0 | U5: 0 | X5: 1- من 10 ل 15 بوست في الشهر 2-انواع البوست (Engagement - Direct Selling - Testimonials - Q&A - Competitions - Tips&Tricks - Live - Reels - Problem&Solution) 3- نوع الصور والفيديو (SIngle Image - Collection - Live - Video Landscape - Reels - Cover Album - GIF - Stories) 3- وقت تنزيل البوستات من 12 الي 3 ايام في وسط الاسبوع 4- انواع الCTA Button (Send Message - Send Whatsapp - No Button - Traffic) 5- طريقة الكتابة (Head,Body,Cta - Head, Body - Head,CTA - Body,CTA - Body) 6- افكار الكتابة (احنا مين - بنقدم ايه - ليه تختارنا - مين شركائنا - مين صاحب الشركة - شهادة عملائنا - شرح لكل خدمة بنقدمها - Tips & Tricks - ازاي - Influencers - نتكلم عن الشركة بشكل عام) 7- عمل هوية بصرية 8- مخاطبة الفئات علي حدى 9- اضافة لينك واتس اب وويب سايت 10- عمل باليت الوان نستعملها
D6: 1 | E6: 0 | F6: 0 | G6: 0 | H6: 0 | I6: 0 | J6: 0 | K6: 0 | L6: 0 | M6: 0 | N6: 0 | O6: 0 | P6: 0 | Q6: 0 | R6: 0 | S6: 0 | T6: 0 | U6: 0
D7: 2 | E7: 0 | F7: 0 | G7: 0 | H7: 0 | I7: 0 | J7: 0 | K7: 0 | L7: 0 | M7: 0 | N7: 0 | O7: 0 | P7: 0 | Q7: 0 | R7: 0 | S7: 0 | T7: 0 | U7: 0
A8: ='Facebook General'!A8 -> مكتب مصطفى عليوه المحاسب القانونى | B8: ='Facebook General'!B8 -> https://www.facebook.com/Mohasebqanony | C8: كتاب عالم المحاسبة
D9: 1 | E9: 13 | F9: Engagement - Direct Selling | G9: Single Image - Collection | H9: عشوائي | I9: لا يوجد | J9: لا يوجد | K9: Engagement - Send Message | L9: لا يوجد | M9: (Head line - Body - CTA) (Body - CTA) (Body) | N9: لا يوجد | O9: لا يوجد | P9: لا يوجد | Q9: الشركات | R9: لا يوجد | S9: لا يوجد | T9: لا يوجد | U9: لا يوجد | V9: 1- بينزل باستمرار | W9: 1- لا يوجد هوية بصرية 2- لا يوجد هوية في العموم 3- بينزل بشكل عشوائي 4- لا يوجد استغلال كامل للمنصة
D10: 2 | E10: 19 | F10: Engagement - Direct Selling | G10: Single Image - Collection | H10: عشوائي | I10: لا يوجد | J10: لا يوجد | K10: Engagement - Send Message | L10: لا يوجد | M10: (Head line - Body - CTA) (Body - CTA) (Body) | N10: لا يوجد | O10: لا يوجد | P10: لا يوجد | Q10: الشركات | R10: لا يوجد | S10: لا يوجد | T10: لا يوجد | U10: لا يوجد
A11: ='Facebook General'!A11 -> RS / Financial Services | B11: ='Facebook General'!B11 -> https://www.facebook.com/rspaac/ | C11: لا يوجد
D12: 1 | E12: 43 | F12: Engagement - Direct Selling - Trends - Educational - Comics - Testimonial | G12: Collection - Video - Live - Single Image | H12: 4-8 | I12: 22 | J12: Single Image - Reels | K12: Engagement - Send Message - Learn More - Visit Instagram | L12: لا يوجد | M12: (Head line - Body - CTA) (Body - CTA) (Body) (Headline) | N12: (تخرج دفعة من الكورس - عرض الكورسات - المحاضرات - الورش المتاحة - لايف من المحاضرات - انواع التقارير المالية - احصائيات عالمية - الاجابة علي اسئلة - الترويج للمصنات الاخرى - الضرائب - البرنامج المتكامل - مخاطبة اكتر من فئة - كفاية خوف من الضرائب - توقع نتيجة الماتش واكسب خصم - التحليل المالي - Testimonials - كوميك - اعداد وتاسيس المحاسب - الفاتورة الالكترونيه - اعداد القوائم المالية) | O12: 1 | P12: Whatsapp | Q12: الافراد (الطلاب) - الشركات | R12: يوجد | S12: يوجد | T12: 4 الوان | U12: متناسقة | V12: 1- التنويع في الافكار 2- استخدام التعليم في الماركتنج 3- ظبط الهوية البصرية | W12: 1- عدم الاعلان عن اي خدمات خاصة بالمجال
D13: 2 | E13: 44 | F13: Engagement - Direct Selling - Trends - Educational - Comics - Testimonial | G13: Collection - Video - Live - Single Image | H13: 4-8 | I13: 18 | J13: Single Image - Reels | K13: Engagement - Send Message - Learn More - Visit Instagram | L13: لا يوجد | N13: محتوي حماسي لتفاعل الطلاب-محاضره-ترويج امنصه اخري- معني break even point -محتوي تفاعلي بفيلم لنفس المجال--- لغز تفاعلي-خصومات لعيد الحب و التوب فان-كوميك-career path-- خبرة سنين ف ورشه واحده--selfie للطلاب-- مبارة القرن-تهنئه للطلاب-مين المدير المالي-فعاليات ايفنت-- توقع نتيجة الماتش و اكسب | O13: 1 | P13: Whatsapp | Q13: الافراد (الطلاب) - الشركات | R13: يوجد | S13: يوجد | T13: 4 الوان | U13: متناسقة
A14: ='Facebook General'!A14 -> نور ابو زيد - محاسبون قانونيون و مستشارون | B14: ='Facebook General'!B14 -> https://www.facebook.com/nourabozied.office1/ | D14: 1 | E14: 2 | F14: Engagement - Direct Selling | G14: Single Image | H14: 0 | I14: 0 | J14: ديزين سوشيال | K14: Send message - non button | L14: لا يوجد | M14: body - cta----- body | N14: body-cta | O14: 1 | P14: لينك الويب سايت | Q14: صاحب شركة - رائد اعمال | R14: يوجد | S14: يوجد | T14: 45019 | U14: يوجد | V14: لا يوجد | W14: مش واضح ف المحتوي - مش بينزل بوستات كتير - | X14: محتاج يتفاعل اكتر - يكتب مختوي صح - يخلي التصميمات السوشيال اقوي من كده
D15: 2 | E15: 1 | F15: Direct Selling | G15: Single Image | H15: 0 | I15: 1

Sheet Instagram
B1: Instagram
A4: الشركة | B4: اللينك | C4: عدد المتابعين | D4: نسبة كل شركة | E4: زرار الصفحة الأساسي | F4: محتوي الBio | G4: High lights | H4: صورة للBio والHigh lights | I4: Shop | J4: Stories | K4: متفاعلين باستمرار | L4: الشهر | M4: عدد البوستات | N4: توقيت البوستات | O4: نوع البوستات | P4: نوع الكونتنت | Q4: طريقة الكتابة | R4: عدد الهاشتجات | S4: نوع الهاشتجات | T4: مسابقات | U4: نوعها | V4: نقاط القوة | W4: نقاط الضعف | X4: الترشيحات
A5: artal Development | B5: https://www.instagram.com/artal_developments/ | C5: 6244 | D5: =C5/C50 -> 0.088761266 | E5: message | F5: realestate developer - website link | G5: 5 | H5: New project- Artal Values-construction- projects- events | I5: 0 | J5: 0 | K5: 0 | L5: Jun | M5: 12 | N5: نفس الفيس بوك | O5: نفس الفيس بوك | P5: نفس الفيس بوك | Q5: نفس الفيس بوك | R5: 4 | S5: #قارن_قبل_ما_تختار #Feel_The_Difference #Artal_Developments #Market_Leader | T5: 0 | U5: 0 | W5: 1- عدد المتابعين قليل جدا مقارنة بالفيس بوك 2- الBio مش مرتب 3- غير متفاعل 4- لا يوجد استخدام صحيح للمنصة | X5: 1- معاملة المنصة بطريقة مستقلة وتنزيل محتوي يناسبها 2- عمل اعلانات عليها منفردة ان امكن باعلانات مناسبة للمنصة 3- استخدام كل الادوات المتوفرة في المنصة (Reels - Stories - Highlights - Collection - Image - شكل مجمع في اكثر من صورة يظهر من الخارج) 4- ظبط الBio وظبط الhighlights 5- اختيار الhashtags المناسبة للمحتوي 6- زيادة عدد الفولورز علي المنصة 7- عمل محتوي كتابي يتناسب مع المنصة 8- عمل سكريبتات ردود تتناسب مع المنصة
L6: May | M6: 9 | N6: نفس الفيس بوك | O6: نفس الفيس بوك | P6: نفس الفيس بوك | Q6: نفس الفيس بوك | R6: 3 | S6: #Feel_The_Difference #Artal_Developments #Market_Leader | T6: 0 | U6: 0
L7: April | M7: 5 | N7: 0 | O7: 0 | P7: 0 | Q7: 0 | R7: 3 | S7: #Feel_The_Difference #Artal_Developments #Market_Leader | T7: 0 | U7: 0
A8: آل فريد للتطوير العقاري | B8: https://www.instagram.com/alfaridegy/ | C8: 2733 | D8: =C8/C50 -> 0.038850823 | E8: Message | F8: اّل فريد للتطوير العقاري تتميز باختيار أفضل المواقع المتميزة وألتزامها بتحقيق أعلي مستويات الجودة من تصاميم ومداخل وواجهات معمارية فاخرة | G8: 1 | H8: ZamalekSC Event | I8: 0 | J8: 0 | K8: not really | L8: jun | M8: 0 | N8: 0 | O8: 0 | P8: 0 | Q8: 0 | R8: 0 | S8: 0 | T8: 0 | U8: 0
L9: may | M9: 3 | N9: 46054 | O9: Photo- videos | P9: مباركة | Q9: Formal | R9: 9 | S9: #آل_فريد_للتطوير_العقاري #بكرة_بين_إيديك #بيت_الوطن #التجمع_الخامس #آل_فريد_للتطوير_العقاري #عيد_الفطر #عيد_سعيد #عيد_العمال #آلفريدللتطوير_العقارى | W9: not active
L10: april | M10: 0 | N10: 0 | O10: 0 | P10: 0 | Q10: 0 | R10: 0 | S10: 0 | T10: 0 | U10: 0
A11: ديار | B11: https://www.instagram.com/diar.developments | C11: 6064 | D11: =C11/C50 -> 0.086202485 | E11: Message | F11: شركة ديار للاستثمارات العقارية ، عضو في كلاً من غرفة الاستثمار وغرفة التطوير العقاري وايضا عضو مؤسس في اتحاد مطوري القاهرة الجديدة website and #التجمع_الخامس | G11: 5 | H11: تابع مشروعك - بيت الوطن - النرجس الجديدة - راحة بالك بالدنيا - تسليمات 2020 | I11: 0 | J11: 0 | K11: نعم | L11: jun | M11: 8 | N11: 23-21-18-16-14-11-7-4- | O11: 3d- album | P11: نفس فيس بوك | Q11: نفس فيس بوك | R11: 10 | S11: #النرجس_الجديدة #التجمع_الخامس #ديـار_للإستثمارات_العقارية #خطوة_أأمن_لبكرة #تابع_مشروعك #بدون_مخالفات #أكبر_سابقة_أعمال_مسجلة_في_الشهر_العقاري #خطوة_أأمن_لبكرة #بدون_مخالفات #بيت_الوطن | T11: 0 | U11: 0 | V11: 1- الHighlights مرتبة وكويسة جدا 2- عدد المتابعين قليل جدا بالنسبة للفيس بوك
L12: May | M12: 10 | N12: نفس فيس بوك | O12: نفس فيس بوك | P12: نفس فيس بوك | Q12: نفس فيس بوك | R12: 6 | S12: #بيت_الوطن #التجمع_الخامس #ديـار_للإستثمارات_العقارية #راحة_بالك_بالدنيا #تابع_مشروعك #بدون_مخالفات | T12: 0 | U12: 0
L13: april | M13: 13 | N13: نفس فيس بوك | O13: نفس فيس بوك | P13: نفس فيس بوك | Q13: نفس فيس بوك | R13: 9 | S13: #عيد_الفطر_المبارك #عيدكم_مبارك #عيد_مبارك #رمضان_كريم #التجمع_الخامس #ديـار_للإستثمارات_العقارية #راحة_بالك_بالدنيا #تابع_مشروعك #بدون_مخالفات | T13: 0 | U13: 0
A14: قنديل | B14: https://www.instagram.com/kandeelgroup/?fbclid=IwAR2WTEte1FpnPjZ--00tGMzVZnwlx0eNDOE84OnAq5mfiig-PBm_tWkQlsE | C14: 4330 | D14: =C14/C50 -> 0.061552896 | E14: message - call - email-whatsapp | F14: قنديل إختيارك الأول في القاهرة الجديدة #التجمع_الخامس | #القاهرة_الجديدة | #new_cairo | #newcairo kandeelgroup.com | G14: 14 | H14: سابقة الاعمال - توثيق صفحة الفيسبوك - هاشتجات (تستاهل - ثقة تبني حياة - ثقة تستحقك - نستحق ثقتك - بلو فرايداي )اختيارك الاول | I14: 0 | J14: 0 | K14: نعم | L14: jun | M14: 15 | N14: 1-12 15 x4 16 x3 17- 19 21 x2 25-28 | O14: photos- videos -albums | P14: نفس بوستات الفيسبوك | Q14: body - cta | R14: 1 | S14: #قنديل_اختيارك_الأول_في_القاهرة_الجديدة | T14: 0 | U14: 0
L15: may | M15: 17 | N15: 1 x2 5-7-11-14-15 18 x3 19 x2 20-22-23 29 x2 | O15: photos- videos -albums | P15: نفس بوستات الفيسبوك | Q15: headline-body- cta | R15: 6 | S15: #تاريخ_من_التطوير #قنديل_اختيارك_الأول_في_القاهرة_الجديدة #قنديل_للتطوير_العقاري #قنديل_اختيارك_الأول_في_القاهرة_الجديدة #أول_تسليم_في_النرجس_الجديدة #1شهر_الخير #عيد_الفطر_المبارك | V15: very active
L16: april | M16: 14 | N16: 1 x2 3-11-13-17-19-21-23-25-27-28-29-30 | O16: photos- videos -albums | P16: نفس بوستات الفيسبوك | Q16: body-cta | R16: 8 | S16: #قنديل_اختيارك_الأول_في_القاهرة_الجديدة #قنديل_للتطوير_العقاري #تاريخ_من_التطوير #عيد_الفطر_المبارك #1شهر_الخير #عيد_تحرير_سيناء #ذكرى_العبور_العظيم #اول_صلاة_تراويح
A17: بنيان | B17: https://www.instagram.com/bonyanegy/ | C17: 6093 | D17: =C17/C50 -> 0.086614733 | E17: Message -whatsapp- call - email | F17: Bonyan For Construction & Projects Management بنيان للتشييد وإدارة المشروعات #bonyan #بنيان_للتشيد_وإدارة_المشروعات | G17: 5 | H17: Locations و عدد المواقع | I17: 0 | J17: 0 | K17: yes | L17: jun | M17: 13 | N17: 5 11 x2 12 16 x2 -18 19 x2 - 20 x2 21- 27 | O17: photos - videos- albums | P17: نفس فيس بوك | Q17: نفس فيس بوك | R17: 6 | S17: #القاهرة_الجديدة #التجمع_الخامس #بدون_دفعات #شمال_الرحاب - #بيت_الوطن - #النورث_هاوس | T17: 0 | U17: 0
L18: may | M18: 13 | N18: 1-7-9-11-13-14-17-19-21-23-28-29-31 | O18: photos - videos- albums | P18: نفس فيس بوك | Q18: نفس فيس بوك | R18: 9 | S18: #القاهرة_الجديدة #التجمع_الخامس #الموقع #التصميم #التنفيذ #التشطيب #نفاذ_الوحدات_المعروضة #التجمع_الخامس #أفضل_قيمة_مقابل_سعر | T18: 0 | U18: 0
L19: april | M19: 9 | N19: 4-11-13-16-24-25-26-28-30 | O19: photos - videos- albums | P19: نفس فيس بوك | Q19: نفس فيس بوك | R19: 8 | S19: #عيد_الفطر_المبارك #عيد_سعيد #النرجس_الجديدة #التجمع_الخامس #القاهرة_الجديدة #عيد_تحرير_سيناء بنيــان_تبني_بيت_الوطن #الأندلس | T19: 0 | U19: 0
A20: معمار الاشراف | B20: https://www.instagram.com/memaar_alashraaf/ | C20: 15200 | D20: =C20/C50 -> 0.21607483 | E20: Message Call Email | F20: نبني اليوم ... بفكر الغد Putting customers first since 1980 ✨ - link website "sign up" | G20: 6 | H20: - معرض مصر - معرض ابو ظبي -Land marks - 40 Years -رمضان كريم | I20: 0 | J20: 0 | K20: متفاعلين | L20: June | M20: 3 | N20: 5 - 9 - 13 | O20: Album | P20: نفس الفيسبوك | Q20: نفس الفيسبوك | R20: 2 | S20: #معمار_الاشراف #نبني_اليوم_بفكر_الغد | T20: 0 | U20: 0 | V20: 1- Neat Instagram 2- Posts متنوعة " | X20: 1) add reels 'Get higher reach"
L21: May | M21: 5 | N21: 1 - 8 - 18 - 24 - 27 | O21: Album photos video | P21: نفس الفيسبوك | Q21: نفس الفيسبوك | R21: 2 2 | S21: Memaar_AlAshraaf# #Building_today_with_the_thoughts_of_tomorrow #We_promise_what_we_deliver #نحن_نعد_بما_نقدم | T21: 0 | U21: 0
L22: April | M22: 6 | N22: 1 - 3 - 7 - 15 - 19 - 29 | O22: Videos Album photo | P22: نفس الفيسبوك | Q22: نفس الفيسبوك | R22: 2 2 | S22: #MemaarAlAshraaf #Building_today_with_the_thoughts_of_tomorrow #معمار_الاشراف #نبني_امتداد النرجس | T22: 0 | U22: 0
A23: البستاني للتنمية العقارية | B23: https://www.instagram.com/al.bostany.masr/ | C23: 2715 | D23: =C23/C50 -> 0.038594945 | E23: Message | F23: البستاني للتنمية العقارية | G23: 0 | H23: 0 | I23: 0 | J23: 0 | K23: اخر بوست كان March | L23: June | M23: 0 | N23: 0 | O23: 0 | P23: 0 | Q23: 0 | R23: 0 | S23: 0 | T23: 0 | U23: 0 | W23: مش بيتفاعلو علي الانستجرام
L24: May | M24: 0 | N24: 0 | O24: 0 | P24: 0 | Q24: 0 | R24: 0 | S24: 0 | T24: 0 | U24: 0
L25: April | M25: 0 | N25: 0 | O25: 0 | P25: 0 | Q25: 0 | R25: 0 | S25: 0 | T25: 0 | U25: 0
A26: مجموعة جدير العقارية - Jadeer Group | B26: https://www.instagram.com/jadeergroup | C26: 5730 | D26: =C26/C50 -> 0.081454525 | E26: Message Call Email | F26: تأسست مجموعة جدير العقارية عام 2006 تخصصها هو مجال التطوير والإستثمار العقاري وإدارة المشروعات و تنفرد بتقديمها لمنظور هندسي ومعماري فريد "متعة السكن" - link website - location | G26: 0 | H26: 0 | I26: 0 | J26: 0 | K26: متفاعلين | L26: June | M26: 7 | N26: 4-13-23-25-27-28-30 | O26: Album Photo | P26: نفس الفيسبوك | Q26: نفس الفيسبوك | R26: 11 | S26: #تابع_مشروعك #الحي_الاول #بيت_الوطن #التجمع_الخامس #القاهرة الجديدة #جدير_العقارية #Art_of_luxury #الحي_الثامن #العاصمة_الجديدة #6اكتوبر #الشيخ_زايد | T26: 0 | U26: 0 | V26: 1- Neat Instagram 2- Posts متنوعة " 3-Hashtags 4- Info | X26: 1) more hashtags 2) Add picture Albums
L27: May | M27: 2 | N27: 5-13 | O27: Photo | P27: نفس الفيسبوك | Q27: نفس الفيسبوك | R27: 4 | S27: #تابع_مشروعك #بيت_الوطن #جدير_العقارية #Art_of_luxury | T27: 0 | U27: 0
L28: April | M28: 8 | N28: 1-12-14-17-25-26-26-30 | O28: Photo Video | P28: نفس الفيسبوك | Q28: نفس الفيسبوك | R28: 9 | S28: #عيد_فطر_مبارك #جدير_العقارية #تابع_مشروعك #الحي_الثامن #بيت_الوطن #Art_of_luxury #Jadeer_Group #Happy_Easter #RealEstate | T28: 0 | U28: 0
A29: Al Ahram Real Estate - الأهرام العقارية | B29: https://www.instagram.com/ahramrealestate | C29: 2299 | D29: =C29/C50 -> 0.032681318 | E29: Message Call Email | F29: تـأسست شركة الاهرام العقارية علي يد مهندسين متخصصين في المجال، وتٌعد اكبر مطور عقاري في القاهرة الجديدة يجمع بين القدرة و المصداقية و الاحترافية | G29: 0 | H29: 0 | I29: 0 | J29: 0 | K29: تفاعل بصيط | L29: june | M29: 2 | N29: 27 10 | O29: -Live picture for a project - Live Drone Video of ahram projects | P29: نفس الفيسبوك | Q29: نفس الفيسبوك | R29: 6 | S29: #بناة_الأهرام #المطور_الاول_في_القاهرة_الجديدة #الاهرام_العقارية #بناة_الجودة #جرام_فعل_خير_من_طن_كلام #جودة_الواقع_تميزنا | U29: 0 | W29: قله البوستات و هشتاجات ملهاش علاقه بالتفاعل
L30: may | M30: 2 | N30: 12 8 | O30: -عزاء -Album Maps للمشاريع | P30: نفس الفيسبوك | Q30: نفس الفيسبوك | R30: 5 | S30: #جودة_الواقع_تميزنا #الاهرام_العقارية #بناة_الأهرام #بناة_الجودة #المطور_الاول_في_القاهرة_الجديدة | T30: 0 | U30: 0 | W30: مش موجودين
L31: april | M31: 4 | N31: 30 25 25 1 | O31: ramadan video- -photo تحرير سيناء Easter photo- -عيد العمال | P31: نفس الفيسبوك | Q31: نفس الفيسبوك | R31: 8 | S31: #Labour_Day #عيد_العمال #بناة_الجودة #الاهرام_العقارية #جودة_الواقع_تميزنا #المطور_الاول_في_القاهرة_الجديدة #بناة_الأهرام #Ramadan_Kareem | T31: 0 | U31: 0 | W31: -posts not informative -not showing work
A32: IHome Real Estate Developer | B32: https://www.instagram.com/ihomegypt/ | C32: 3432 | D32: =C32/C50 -> 0.048787422 | E32: Message - call - email | F32: - website link - location link | G32: 0 | H32: 0 | I32: 0 | J32: 0 | K32: متفاعلين | L32: June | M32: 9 | N32: 23 19 13 (x2) 11 7 6 2 (x2) | O32: Live Photos Videos 3D models Interiors | P32: نفس فيسبوك | Q32: نفس فيسبوك | R32: 12 | S32: #IHome_RealEstate_Developer #live_luxurious_life #عيش_الرفاهيه ‎#اي_هوم_للتطوير_العقاري ‎#اكبر_مطور_مالك #بيت_الوطن #التجمع_الخامس #النرجس_الجديدة #نورت_بيت_الوطن #حديقة #الحي_السادس #الحي_الرابع | T32: 0 | U32: 0 | V32: متفاعل متنوع
L33: May | M33: 16 | N33: 31 26 (x2) 23 19 (x2) 17 16 15 13 11 9 (x2) 8 (x2) | P33: نفس فيسبوك | Q33: نفس فيسبوك | R33: 15 | S33: #IHome_RealEstate_Developer #live_luxurious_life #عيش_الرفاهيه ‎#اي_هوم_للتطوير_العقاري ‎#اكبر_مطور_مالك #اكبر_نسبة_انشاء_في_بيت_الوطن #largestlanddevelopment #بيت_الوطن #التجمع_الخامس #النرجس_الجديدة #حمام_سباحة #سراي_النرجس #حديقة #شمال_الرحاب #تريبل_فيس | T33: 0 | U33: 0
L34: April | M34: 9 | N34: 25 (x3) 18 11 (x2) 10 9 (x2) | P34: نفس فيسبوك | Q34: نفس فيسبوك | R34: 13 | S34: #بيت_الوطن مع #اكبر_مطور_مالك بـــ #التجمع_الخامس 👍 #IHome_RealEstate_Developer #live_luxurious_life #عيش_الرفاهيه ‎#اي_هوم_للتطوير_العقاري ‎#اكبر_مطور_مالك #اكبر_نسبة_انشاء_في_بيت_النرجس #النرجس_الجديدة #اختار_صح #النورس_هاوس #اكبر_نسبة_انشاء_في_بيت_الوطن | T34: 0 | U34: 0
A35: Elite Home Real Estate Developer | B35: https://www.instagram.com/elite.home_realestate/ | C35: 2847 | D35: =C35/C50 -> 0.040471384 | E35: Message | F35: شركة تطوير عقاري تؤمن بأهمية تحقيق رغبات العميل في مشروعاتها من حيث الرفاهية التي يستحقها وأفضل عائد علي الإستثمار. | G35: 0 | H35: 0 | I35: 0 | J35: 0 | K35: no | L35: June | M35: 0 | N35: 0 | P35: نفس فيسبوك | W35: they don't have posts
L36: May | M36: 0 | N36: 0 | P36: نفس فيسبوك | W36: they don't have posts
L37: April | M37: 5 | N37: 27-27-19-135 | O37: تهنئة - لايف فيديو | P37: نفس فيسبوك | Q37: نفس فيسبوك | R37: 2 | S37: #إيليت_هوم_بتبني_مشاريعها #رغم_زيادة_أسعار_الحديد | V37: the hashtag shows that they have lower prices and this would attract the customer | W37: they do't have highlights and no current stories
A38: Qawafil Developments قوافل العقارية | B38: https://www.instagram.com/qawafildevelopments/?hl=en | C38: 122 | D38: =C38/C50 -> 0.0017342848 | E38: Message - call - email | F38: Your Next Address. www.qawafil-eg.com | G38: 0 | H38: 0 | I38: 0 | J38: 0 | K38: تفاعل ضعيف - اتفاعل شوية في شهر5 و في شهر 4 و لكن قليل | L38: June | M38: 0 | N38: 0 | O38: 0 | P38: 0 | Q38: 0 | R38: 0 | S38: 0 | T38: 0 | U38: 0 | V38: دعاية للسوشيل ميديا الاخرى | W38: no highlights and posts
L39: May | M39: 2 | N39: 44563 | O39: تهنئة -عيد | P39: تهنئة | Q39: نفس الفيسبوك | R39: 0 - 3 | S39: #قوافل_العقارية #لوحة_فنية | T39: 0 | U39: 0 | V39: دعاية للسوشيل ميديا الاخرى | W39: مافيش highlights - مافيش محتوى مفيد غيرعيد العمال عيد - bio ضعيف مفيهوش اي info | X39: they need to have content and they don't have many followers and thats due to there abscence on instagram
L40: April | M40: 8 | N40: 27-25-8-5-3-2-1-1 | O40: وجهات قوافل العقرية - تهنئة -عيد | P40: تابع مشروعك - دعاية للسوشيا ميديا الاخرى | Q40: نفس الفيسبوك | R40: 0 - 3 | S40: #قوافل_العقارية #عنوانك_للمستقبل | T40: 0 | U40: 0 | V40: دعاية للسوشيل ميديا الاخرى | W40: مافيش highlights - مافيش محتوى مفيد غير تابع مشروعك - bio ضعيف مفيهوش اي info | X40: all of these posts where about congrats on the occasions and the content was so poor
A41: Gosour Developments - جسور العقارية | B41: https://www.instagram.com/gosour.dev | C41: 1560 | D41: =C41/C50 -> 0.022176101 | E41: Message - Call- Website | F41: لا يوجد | G41: 3 | H41: 12 عام انجزات شكرا نتحدي بالجودة | I41: 0 | J41: 0 | K41: نعم | L41: June | M41: 8 | N41: 13-14-14-14-15-18-20-20 | O41: Videos - Photos | P41: نفس الفيسبوك | Q41: Body | R41: 44653 | S41: #نتحدي_بالجودة #تابع_مشروعك #جسور_العقارية #نتحدى_بالجودة | T41: 0 | U41: 0 | V41: 1- الHighlights كويسة جدا و فيها تحديث 2- عدد البوستات كويس و بيدعم فكرة الكامبين بتاعتهم | W41: 1- مش رابطين الانستا بتاعهم بميل
L42: May | M42: 4 | N42: 1-1-17-17 | O42: Photos | P42: نفس الفيسبوك | Q42: Body | R42: 3 | S42: #ميلانو_تاور #جسور_العقارية #نتحدى_بالجوده | T42: 0 | U42: 0 | V42: 1- عدد الهاشتاج حلو جدا | W42: posts on occassions not their projects
L43: April | M43: 6 | N43: 27-25-24-20-17-1 | O43: Videos - Photos- Graphic | P43: نفس الفيسبوك | Q43: Body | R43: 13 | S43: #جسور_العقارية #عقارات #عقارات_للبيع #شقة_للبيع #التجمع_الخامس #بيت_الوطن #القاهرة_الجديدة #realestate #5thsettlement #newcairo #ala #alahly_club_eg #viewzone | T43: 0 | U43: 0 | V43: this month's hashtags where really nice and a lot
A44: IBuild | B44: https://instagram.com/ibuild.developmentseg?utm_medium=copy_link | C44: 5571 | D44: =C44/C50 -> 0.079194268 | E44: Message- Contact- Website | F44: على مدى 20 عاما تم تسليم اكتر من 77 مشرع بالقاهرة الجديدة و مصر الجديدة و مدينة نصر و تحقيق اعلي معدلات الجودة و التسليم قبل ميعاد التسليم . | G44: 5 | H44: Locations و عروض | I44: 0 | J44: 0 | K44: نعم | L44: June | M44: 3 | N44: 20-20-6 | O44: Videos | P44: نفس الفيسبوك | Q44: نفس الفيسبوك | R44: 2 | S44: #النرجس_الجديدة #التجمعالخامس | T44: 0 | U44: 0 | V44: الHighlights مرتبة وكويسة جدا و عدد المتابعين زاد
L45: May | M45: 4 | N45: 25-22-9-1 | O45: Photos | P45: نفس الفيسبوك | Q45: نفس الفيسبوك | R45: 2 | S45: #النرجس_الجديدة #التجمعالخامس | T45: 0 | U45: 0
L46: April | M46: 5 | N46: 30-25-25-24-1 | O46: Videos - Photos | P46: نفس الفيسبوك | Q46: نفس الفيسبوك | R46: 2 | S46: #النرجس_الجديدة #التجمعالخامس | T46: 0 | U46: 0
A47: Arabco Developments - أرابكو للتطوير العقاري | B47: https://www.instagram.com/arabcodevelopments/ | C47: 5406 | D47: =C47/C50 -> 0.076848719 | E47: Message | F47: since 1993 in Dubai. Call us on 19021 arabcodevelopment.com | G47: 3 | H47: تهنئة ومواقع | I47: 0 | J47: 0 | K47: Yes | L47: June | M47: 9 | N47: نفس فيس بوك | O47: Videos - Photos | P47: نفس الفيسبوك | Q47: نفس الفيسبوك | R47: 44653 | S47: #أرابكوللتطويرالعقاري #التجمع_الخامس #القاهرة_الجديدة #النرجس_الجديدة | T47: 0 | U47: 0 | V47: 1-The followers has increased in a siginificant way. 2-they are active on instagram more than other companies. | W47: the hashtags are the same and repetitive.
L48: May | M48: 6 | N48: نفس فيس بوك | O48: Photos | P48: نفس الفيسبوك | Q48: نفس الفيسبوك | R48: 44653 | S48: #أرابكوللتطويرالعقاري #التجمع_الخامس #القاهرة_الجديدة #النرجس_الجديدة | T48: 0 | U48: 0
L49: April | M49: 4 | N49: نفس فيس بوك | O49: Photos | P49: نفس الفيسبوك | Q49: نفس الفيسبوك | R49: 44653 | S49: #أرابكوللتطويرالعقاري #التجمع_الخامس #القاهرة_الجديدة #النرجس_الجديدة | T49: 0 | U49: 0
C50: =SUM(C5:C49) -> 70346

Sheet Facebook Replies
B1: Facebook Replies
A4: الشركة | B4: اللينك | C4: رد الي | D4: سكريبت ردود للرسائل | E4: سرعة الرد | F4: سكريبت ردود للتعليقات | G4: بيحول العملاء في الرسائل | H4: لينكات | I4: سرعة الرد | J4: نقاط القوة | K4: نقاط الضعف | L4: الترشيحات
A5: ='Facebook General'!A5 -> المجموعة الاستشارية للمحاسبة و الضرائب | B5: ='Facebook General'!B5 -> https://www.facebook.com/acconutants | C5: yes | D5: مرحبًا، نشكرك على تواصلك معنا. لقد تلقينا رسالتك ونقدّر تواصلك معنا. | E5: 3:30pm. /. 5.02 | F5: no comment | G5: no comment | H5: no | I5: no comment | L5: 1- ردود جاهزة لاغلب الاسئلة 2- سرعة الرد (ميودريتور - Automation) 3- سكريبت لردود الكومنتات 4- اضافة لينك واتس اب في الكومنتات
A6: ='Facebook General'!A6 -> 0 | B6: ='Facebook General'!B6 -> 0
A7: ='Facebook General'!A7 -> 0 | B7: ='Facebook General'!B7 -> 0
A8: ='Facebook General'!A8 -> مكتب مصطفى عليوه المحاسب القانونى | B8: ='Facebook General'!B8 -> https://www.facebook.com/Mohasebqanony | C8: yes | D8: مكتب مصطفى عليوه محاسب قانونى يرحب بك سوف نرد على استفسارك فى اقرب وقت وللتواصل يمكن الاتصال على 01027931097 | E8: 3.30. / . 11.10 | F8: no comment | G8: no comment | H8: no | I8: no comment
A9: ='Facebook General'!A9 -> 0 | B9: ='Facebook General'!B9 -> 0
A10: ='Facebook General'!A10 -> 0 | B10: ='Facebook General'!B10 -> 0
A11: ='Facebook General'!A11 -> RS / Financial Services | B11: ='Facebook General'!B11 -> https://www.facebook.com/rspaac/ | C11: yes | D11: Welcome to your home, RS Achieves Your Accounting ambitions هيتم التواصل معاك والرد علي استفسارك من خلال التيم المختص في اسرع وقت تقدر تنضم للجروب بتاعنا علي فيسبوك عن طريق اللينك دا : https://www.facebook.com/groups/500441570130281/?ref=share | E11: yes | F11: تم التواصل مع حضرتك | G11: no | H11: no | I11: yes | J11: fast reply in message and comments
A12: ='Facebook General'!A12 -> 0 | B12: ='Facebook General'!B12 -> 0 | F12: Like
A13: ='Facebook General'!A13 -> 0 | B13: ='Facebook General'!B13 -> 0
A14: ='Facebook General'!A14 -> نور ابو زيد - محاسبون قانونيون و مستشارون | B14: ='Facebook General'!B14 -> https://www.facebook.com/nourabozied.office1/ | C14: yes | D14: نور ابو زيد - محاسبون قانونيون و مستشارون ----------- برجاء التواصل يوميا من الساعه ١٢ ظهرا حتي الساعه ٧ مساءا ماعدا الجمعه 01001589657 - 01114415444 ----------- او بزياره موقعنا https://www.nourabozied.com ----------- العنوان 76 شارع جامعة الدول العربية، المهندسين، الجيزة ----------- او ممكن تبعتلنا رقمك و هنتواصل معاك | F14: تم التواصل مع حضرتك | G14: No | H14: no | I14: yes | J14: fast reply in message and comments
A15: ='Facebook General'!A15 -> 0 | B15: ='Facebook General'!B15 -> 0 | D15: Enter
A16: ='Facebook General'!A16 -> 0 | B16: ='Facebook General'!B16 -> 0 | D16: Write to Facebook user
A17: ='Facebook General'!A17 -> OSS Middle East For Quality Certificates | B17: ='Facebook General'!B17 -> https://www.facebook.com/OSS4QualityAssurance | C17: yes | D17: أهلا بيك وشكراَ لتواصلك بينا لخدمات الأيزو والجودة برجاء توضيح إستفسارك. أتصل بنا 00201211110296 واتساب 01282715566 Quality Assurance is Our Mission! | E17: no | F17: تم التواصل | G17: no | H17: no | I17: no | K17: not a fast replier
A18: ='Facebook General'!A18 -> 0 | B18: ='Facebook General'!B18 -> 0
A19: ='Facebook General'!A19 -> 0 | B19: ='Facebook General'!B19 -> 0

Sheet Whats APP
B1: Whatsapp
A4: الشركة | B4: اللينك | C4: رد الي | D4: سكريبت ردود للرسائل | E4: طريقة الرد | F4: سرعة الرد | G4: Catalogue | H4: عدد السيكشن | I4: عدد المنتجات | J4: الأسعار | K4: منظم | L4: نقاط القوة | M4: نقاط الضعف | N4: الترشيحات
A5: ='Facebook General'!A5 -> المجموعة الاستشارية للمحاسبة و الضرائب | B5: ='Facebook General'!B5 -> https://www.facebook.com/acconutants | N5: 1- هنظبط الLayout 2- نضيف الServices 3- نضيف ردود جاهزة لاغلب الاسئلة 4- نضيف Labels للعملاء عشان نقسمهم
A6: ='Facebook General'!A6 -> 0 | B6: ='Facebook General'!B6 -> 0
A7: ='Facebook General'!A7 -> 0 | B7: ='Facebook General'!B7 -> 0
A8: ='Facebook General'!A8 -> مكتب مصطفى عليوه المحاسب القانونى | B8: ='Facebook General'!B8 -> https://www.facebook.com/Mohasebqanony
A9: ='Facebook General'!A9 -> 0 | B9: ='Facebook General'!B9 -> 0
A10: ='Facebook General'!A10 -> 0 | B10: ='Facebook General'!B10 -> 0
A11: ='Facebook General'!A11 -> RS / Financial Services | B11: ='Facebook General'!B11 -> https://www.facebook.com/rspaac/
A12: ='Facebook General'!A12 -> 0 | B12: ='Facebook General'!B12 -> 0
A13: ='Facebook General'!A13 -> 0 | B13: ='Facebook General'!B13 -> 0
A14: ='Facebook General'!A14 -> نور ابو زيد - محاسبون قانونيون و مستشارون | B14: ='Facebook General'!B14 -> https://www.facebook.com/nourabozied.office1/
A15: ='Facebook General'!A15 -> 0 | B15: ='Facebook General'!B15 -> 0
A16: ='Facebook General'!A16 -> 0 | B16: ='Facebook General'!B16 -> 0
A17: ='Facebook General'!A17 -> OSS Middle East For Quality Certificates | B17: ='Facebook General'!B17 -> https://www.facebook.com/OSS4QualityAssurance
... A19: ='Facebook General'!A19 -> 0 | B19: ='Facebook General'!B19 -> 0

Sheet نقاط القوة والضعف
B1: نقاط القوة والضعف
C4: Facebook General | F4: Facebook Shop & Tabs | I4: Facebook Content | L4: Facebook Replies | O4: Facebook Ads | R4: Whats App | U4: Instagram
A5: الشركة | B5: اللينك | C5: نقاط القوة | D5: نقاط الضعف | E5: الترشيحات | F5: نقاط القوة | G5: نقاط الضعف | H5: الترشيحات | I5: نقاط القوة | J5: نقاط الضعف | K5: الترشيحات | L5: نقاط القوة | M5: نقاط الضعف | N5: الترشيحات | O5: نقاط القوة | P5: نقاط الضعف | Q5: الترشيحات | R5: نقاط القوة | S5: نقاط الضعف | T5: الترشيحات | U5: نقاط القوة | V5: نقاط الضعف | W5: الترشيحات
A6: ='Facebook General'!A5 -> المجموعة الاستشارية للمحاسبة و الضرائب | B6: ='Facebook General'!B5 -> https://www.facebook.com/acconutants | C6: ='Facebook General'!O5 -> مفيش | D6: ='Facebook General'!P5 -> لا يوجد ظهور الكترونى | E6: ='Facebook General'!Q5 -> 1- عمل هوية الكترونية 2- نحاول نزود عدد المتابعين 3- تسهيل الوصول عن طريق زرار الواتس اب 4- Home - About -Service - Photos - Vidoes 5- ننظمله الAbout ( الخدمات والمكان وسابقة الاعمال شركتين مثلا وقت الانشاء) 6- ننظبط ان احنا نضيف كل لينكات السوشيال الميديا 7- كافر يبقي متغير (الخدمات - مناسبات - اكبر الشركات اللي اشتغل - الاحتفالات والEvents - خدمات جديدة - التركيز علي خدمة معينة) 8- في حلين لده (ان يبقي فيه شخص بيرد بطريقة معينة علي الناس وبيرد باستمرار - Automation) | F6: ='Facebook Shop & Tabs'!J5 -> many service | G6: ='Facebook Shop & Tabs'!K5 -> 0 | H6: ='Facebook Shop & Tabs'!L5 -> 1- الخدمات بشرحها وطريقة التواصل هتبقي ماسنجر | I6: ='Facebook Content'!V5 -> 0 | J6: ='Facebook Content'!W5 -> 0 | K6: ='Facebook Content'!X5 -> 1- من 10 ل 15 بوست في الشهر 2-انواع البوست (Engagement - Direct Selling - Testimonials - Q&A - Competitions - Tips&Tricks - Live - Reels - Problem&Solution) 3- نوع الصور والفيديو (SIngle Image - Collection - Live - Video Landscape - Reels - Cover Album - GIF - Stories) 3- وقت تنزيل البوستات من 12 الي 3 ايام في وسط الاسبوع 4- انواع الCTA Button (Send Message - Send Whatsapp - No Button - Traffic) 5- طريقة الكتابة (Head,Body,Cta - Head, Body - Head,CTA - Body,CTA - Body) 6- افكار الكتابة (احنا مين - بنقدم ايه - ليه تختارنا - مين شركائنا - مين صاحب الشركة - شهادة عملائنا - شرح لكل خدمة بنقدمها - Tips & Tricks - ازاي - Influencers - نتكلم عن الشركة بشكل عام) 7- عمل هوية بصرية 8- مخاطبة الفئات علي حدى 9- اضافة لينك واتس اب وويب سايت 10- عمل باليت الوان نستعملها | L6: ='Facebook Replies'!J5 -> 0 | M6: ='Facebook Replies'!K5 -> 0 | N6: ='Facebook Replies'!L5 -> 1- ردود جاهزة لاغلب الاسئلة 2- سرعة الرد (ميودريتور - Automation) 3- سكريبت لردود الكومنتات 4- اضافة لينك واتس اب في الكومنتات | O6: ='Facebook ads'!P5 -> 0 | P6: ='Facebook ads'!Q5 -> 0 | Q6: ='Facebook ads'!R5 -> 1- الObjectives المقترحة (Send Messages - Engagement (Post Engagement - Page Like) - Reach - Leads - Traffic - Conversion - Profile Visit Instagram - Search - Display - Youtube - Email Marketing) 2- البلات فورم اللي ممكن نشتغل عليها اعلانات (Facebook - Instagram - Linkedin - Google) 3- طريقة الكتابة (Head,Body,CTA - Body,CTA) 4- افكار الاعلانات (احنا مين - بنقدم ايه - ليه تختارنا - مين شركائنا - مين صاحب الشركة - شهادة عملائنا - شرح لكل خدمة بنقدمها - Tips & Tricks - ازاي - Influencers) 5- نوع الكرييتيف (Collection - Carousel - Single Image - Cover Album - Reels - Videos - GIF) 6- نوع المحتوي (Graphic - Live - Recorded - Work Enviroment Images - Certificates) 7- مسابقات ( سؤال في المجال= استشارة مجانية - اسئلة علي مدار رمضان =ينزل Training علي حسب الScore) 8- الفئة المستهدفة ( طلاب الجامعات - اصحاب الStartups - اصحاب الشركات الكبيرة & رواد الاعمال - الشركات اللي حابة تغير اللي بيتعمله - الشركات الاجنبية) 9- تكوين هوية بصرية | R6: ='Whats APP'!L5 -> 0 | S6: ='Whats APP'!M5 -> 0 | T6: ='Whats APP'!N5 -> 1- هنظبط الLayout 2- نضيف الServices 3- نضيف ردود جاهزة لاغلب الاسئلة 4- نضيف Labels للعملاء عشان نقسمهم | U6: =Instagram!V5 -> 0 | V6: =Instagram!W5 -> 1- عدد المتابعين قليل جدا مقارنة بالفيس بوك 2- الBio مش مرتب 3- غير متفاعل 4- لا يوجد استخدام صحيح للمنصة | W6: =Instagram!X5 -> 1- معاملة المنصة بطريقة مستقلة وتنزيل محتوي يناسبها 2- عمل اعلانات عليها منفردة ان امكن باعلانات مناسبة للمنصة 3- استخدام كل الادوات المتوفرة في المنصة (Reels - Stories - Highlights - Collection - Image - شكل مجمع في اكثر من صورة يظهر من الخارج) 4- ظبط الBio وظبط الhighlights 5- اختيار الhashtags المناسبة للمحتوي 6- زيادة عدد الفولورز علي المنصة 7- عمل محتوي كتابي يتناسب مع المنصة 8- عمل سكريبتات ردود تتناسب مع المنصة
A7: ='Facebook General'!A6 -> 0 | B7: ='Facebook General'!B6 -> 0 | C7: ='Facebook General'!O6 -> 0 | D7: ='Facebook General'!P6 -> 0 | E7: ='Facebook General'!Q6 -> 0 | F7: ='Facebook Shop & Tabs'!J6 -> 0 | G7: ='Facebook Shop & Tabs'!K6 -> 0 | H7: ='Facebook Shop & Tabs'!L6 -> 0 | I7: ='Facebook Content'!V6 -> 0 | J7: ='Facebook Content'!W6 -> 0 | K7: ='Facebook Content'!X6 -> 0 | L7: ='Facebook Replies'!J6 -> 0 | M7: ='Facebook Replies'!K6 -> 0 | N7: ='Facebook Replies'!L6 -> 0 | O7: ='Facebook ads'!P6 -> 0 | P7: ='Facebook ads'!Q6 -> 0 | Q7: ='Facebook ads'!R6 -> 0 | R7: ='Whats APP'!L6 -> 0 | S7: ='Whats APP'!M6 -> 0 | T7: ='Whats APP'!N6 -> 0 | U7: =Instagram!V6 -> 0 | V7: =Instagram!W6 -> 0 | W7: =Instagram!X6 -> 0
A8: ='Facebook General'!A7 -> 0 | B8: ='Facebook General'!B7 -> 0 | C8: ='Facebook General'!O7 -> 0 | D8: ='Facebook General'!P7 -> 0 | E8: ='Facebook General'!Q7 -> 0 | F8: ='Facebook Shop & Tabs'!J7 -> 0 | G8: ='Facebook Shop & Tabs'!K7 -> 0 | H8: ='Facebook Shop & Tabs'!L7 -> 0 | I8: ='Facebook Content'!V7 -> 0 | J8: ='Facebook Content'!W7 -> 0 | K8: ='Facebook Content'!X7 -> 0 | L8: ='Facebook Replies'!J7 -> 0 | M8: ='Facebook Replies'!K7 -> 0 | N8: ='Facebook Replies'!L7 -> 0 | O8: ='Facebook ads'!P7 -> 0 | P8: ='Facebook ads'!Q7 -> 0 | Q8: ='Facebook ads'!R7 -> 0 | R8: ='Whats APP'!L7 -> 0 | S8: ='Whats APP'!M7 -> 0 | T8: ='Whats APP'!N7 -> 0 | U8: =Instagram!V7 -> 0 | V8: =Instagram!W7 -> 0 | W8: =Instagram!X7 -> 0
A9: ='Facebook General'!A8 -> مكتب مصطفى عليوه المحاسب القانونى | B9: ='Facebook General'!B8 -> https://www.facebook.com/Mohasebqanony | C9: ='Facebook General'!O8 -> website - reviews | D9: ='Facebook General'!P8 -> no about - no service- | E9: ='Facebook General'!Q8 -> 0 | F9: ='Facebook Shop & Tabs'!J8 -> 0 | G9: ='Facebook Shop & Tabs'!K8 -> one service only | H9: ='Facebook Shop & Tabs'!L8 -> 0 | I9: ='Facebook Content'!V8 -> 0 | J9: ='Facebook Content'!W8 -> 0 | K9: ='Facebook Content'!X8 -> 0 | L9: ='Facebook Replies'!J8 -> 0 | M9: ='Facebook Replies'!K8 -> 0 | N9: ='Facebook Replies'!L8 -> 0 | O9: ='Facebook ads'!P8 -> 0 | P9: ='Facebook ads'!Q8 -> 0 | Q9: ='Facebook ads'!R8 -> 0 | R9: ='Whats APP'!L8 -> 0 | S9: ='Whats APP'!M8 -> 0 | T9: ='Whats APP'!N8 -> 0 | U9: =Instagram!V8 -> 0 | V9: =Instagram!W8 -> 0 | W9: =Instagram!X8 -> 0
A10: ='Facebook General'!A9 -> 0 | B10: ='Facebook General'!B9 -> 0 | C10: ='Facebook General'!O9 -> 0 | D10: ='Facebook General'!P9 -> 0 | E10: ='Facebook General'!Q9 -> 0 | F10: ='Facebook Shop & Tabs'!J9 -> 0 | G10: ='Facebook Shop & Tabs'!K9 -> 0 | H10: ='Facebook Shop & Tabs'!L9 -> 0 | I10: ='Facebook Content'!V9 -> 1- بينزل باستمرار | J10: ='Facebook Content'!W9 -> 1- لا يوجد هوية بصرية 2- لا يوجد هوية في العموم 3- بينزل بشكل عشوائي 4- لا يوجد استغلال كامل للمنصة | K10: ='Facebook Content'!X9 -> 0 | L10: ='Facebook Replies'!J9 -> 0 | M10: ='Facebook Replies'!K9 -> 0 | N10: ='Facebook Replies'!L9 -> 0 | O10: ='Facebook ads'!P9 -> 0 | P10: ='Facebook ads'!Q9 -> 0 | Q10: ='Facebook ads'!R9 -> 0 | R10: ='Whats APP'!L9 -> 0 | S10: ='Whats APP'!M9 -> 0 | T10: ='Whats APP'!N9 -> 0 | U10: =Instagram!V9 -> 0 | V10: =Instagram!W9 -> not active | W10: =Instagram!X9 -> 0
A11: ='Facebook General'!A10 -> 0 | B11: ='Facebook General'!B10 -> 0 | C11: ='Facebook General'!O10 -> 0 | D11: ='Facebook General'!P10 -> 0 | E11: ='Facebook General'!Q10 -> 0 | F11: ='Facebook Shop & Tabs'!J10 -> 0 | G11: ='Facebook Shop & Tabs'!K10 -> 0 | H11: ='Facebook Shop & Tabs'!L10 -> 0 | I11: ='Facebook Content'!V10 -> 0 | J11: ='Facebook Content'!W10 -> 0 | K11: ='Facebook Content'!X10 -> 0 | L11: ='Facebook Replies'!J10 -> 0 | M11: ='Facebook Replies'!K10 -> 0 | N11: ='Facebook Replies'!L10 -> 0 | O11: ='Facebook ads'!P10 -> 0 | P11: ='Facebook ads'!Q10 -> 0 | Q11: ='Facebook ads'!R10 -> 0 | R11: ='Whats APP'!L10 -> 0 | S11: ='Whats APP'!M10 -> 0 | T11: ='Whats APP'!N10 -> 0 | U11: =Instagram!V10 -> 0 | V11: =Instagram!W10 -> 0 | W11: =Instagram!X10 -> 0
A12: ='Facebook General'!A11 -> RS / Financial Services | B12: ='Facebook General'!B11 -> https://www.facebook.com/rspaac/ | C12: ='Facebook General'!O11 -> co op with people minds and trends | D12: ='Facebook General'!P11 -> 0 | E12: ='Facebook General'!Q11 -> 0 | F12: ='Facebook Shop & Tabs'!J11 -> varity in services | G12: ='Facebook Shop & Tabs'!K11 -> 0 | H12: ='Facebook Shop & Tabs'!L11 -> 0 | I12: ='Facebook Content'!V11 -> 0 | J12: ='Facebook Content'!W11 -> 0 | K12: ='Facebook Content'!X11 -> 0 | L12: ='Facebook Replies'!J11 -> fast reply in message and comments | M12: ='Facebook Replies'!K11 -> 0 | N12: ='Facebook Replies'!L11 -> 0 | O12: ='Facebook ads'!P11 -> شغال ع تدريس الطلاب بتركيز --- شغال علي اصحاب الشركات و خوفهم من الضرايب و بكده جايب اكتر من شريحه | P12: ='Facebook ads'!Q11 -> مش عامل عروض | Q12: ='Facebook ads'!R11 -> 0 | R12: ='Whats APP'!L11 -> 0 | S12: ='Whats APP'!M11 -> 0 | T12: ='Whats APP'!N11 -> 0 | U12: =Instagram!V11 -> 1- الHighlights مرتبة وكويسة جدا 2- عدد المتابعين قليل جدا بالنسبة للفيس بوك | V12: =Instagram!W11 -> 0 | W12: =Instagram!X11 -> 0
A13: ='Facebook General'!A12 -> 0 | B13: ='Facebook General'!B12 -> 0 | C13: ='Facebook General'!O12 -> 0 | D13: ='Facebook General'!P12 -> 0 | E13: ='Facebook General'!Q12 -> 0 | F13: ='Facebook Shop & Tabs'!J12 -> 0 | G13: ='Facebook Shop & Tabs'!K12 -> 0 | H13: ='Facebook Shop & Tabs'!L12 -> 0 | I13: ='Facebook Content'!V12 -> 1- التنويع في الافكار 2- استخدام التعليم في الماركتنج 3- ظبط الهوية البصرية | J13: ='Facebook Content'!W12 -> 1- عدم الاعلان عن اي خدمات خاصة بالمجال | K13: ='Facebook Content'!X12 -> 0 | L13: ='Facebook Replies'!J12 -> 0 | M13: ='Facebook Replies'!K12 -> 0 | N13: ='Facebook Replies'!L12 -> 0 | O13: ='Facebook ads'!P12 -> 0 | P13: ='Facebook ads'!Q12 -> 0 | Q13: ='Facebook ads'!R12 -> 0 | R13: ='Whats APP'!L12 -> 0 | S13: ='Whats APP'!M12 -> 0 | T13: ='Whats APP'!N12 -> 0 | U13: =Instagram!V12 -> 0 | V13: =Instagram!W12 -> 0 | W13: =Instagram!X12 -> 0
A14: ='Facebook General'!A13 -> 0 | B14: ='Facebook General'!B13 -> 0 | C14: ='Facebook General'!O13 -> 0 | D14: ='Facebook General'!P13 -> 0 | E14: ='Facebook General'!Q13 -> 0 | F14: ='Facebook Shop & Tabs'!J13 -> 0 | G14: ='Facebook Shop & Tabs'!K13 -> 0 | H14: ='Facebook Shop & Tabs'!L13 -> 0 | I14: ='Facebook Content'!V13 -> 0 | J14: ='Facebook Content'!W13 -> 0 | K14: ='Facebook Content'!X13 -> 0 | L14: ='Facebook Replies'!J13 -> 0 | M14: ='Facebook Replies'!K13 -> 0 | N14: ='Facebook Replies'!L13 -> 0 | O14: ='Facebook ads'!P13 -> 0 | P14: ='Facebook ads'!Q13 -> 0 | Q14: ='Facebook ads'!R13 -> 0 | R14: ='Whats APP'!L13 -> 0 | S14: ='Whats APP'!M13 -> 0 | T14: ='Whats APP'!N13 -> 0 | U14: =Instagram!V13 -> 0 | V14: =Instagram!W13 -> 0 | W14: =Instagram!X13 -> 0
A15: ='Facebook General'!A14 -> نور ابو زيد - محاسبون قانونيون و مستشارون | B15: ='Facebook General'!B14 -> https://www.facebook.com/nourabozied.office1/ | C15: ='Facebook General'!O14 -> website | D15: ='Facebook General'!P14 -> no other social links - few followers | E15: ='Facebook General'!Q14 -> 0 | F15: ='Facebook Shop & Tabs'!J14 -> no | G15: ='Facebook Shop & Tabs'!K14 -> no services | H15: ='Facebook Shop & Tabs'!L14 -> 0 | I15: ='Facebook Content'!V14 -> لا يوجد | J15: ='Facebook Content'!W14 -> مش واضح ف المحتوي - مش بينزل بوستات كتير - | K15: ='Facebook Content'!X14 -> محتاج يتفاعل اكتر - يكتب مختوي صح - يخلي التصميمات السوشيال اقوي من كده | L15: ='Facebook Replies'!J14 -> fast reply in message and comments | M15: ='Facebook Replies'!K14 -> 0 | N15: ='Facebook Replies'!L14 -> 0 | O15: ='Facebook ads'!P14 -> 0 | P15: ='Facebook ads'!Q14 -> 0 | Q15: ='Facebook ads'!R14 -> 0 | R15: ='Whats APP'!L14 -> 0 | S15: ='Whats APP'!M14 -> 0 | T15: ='Whats APP'!N14 -> 0 | U15: =Instagram!V14 -> 0 | V15: =Instagram!W14 -> 0 | W15: =Instagram!X14 -> 0
A16: ='Facebook General'!A15 -> 0 | B16: ='Facebook General'!B15 -> 0 | C16: ='Facebook General'!O15 -> 0 | D16: ='Facebook General'!P15 -> 0 | E16: ='Facebook General'!Q15 -> 0 | F16: ='Facebook Shop & Tabs'!J15 -> 0 | G16: ='Facebook Shop & Tabs'!K15 -> 0 | H16: ='Facebook Shop & Tabs'!L15 -> 0 | I16: ='Facebook Content'!V15 -> 0 | J16: ='Facebook Content'!W15 -> 0 | K16: ='Facebook Content'!X15 -> 0 | L16: ='Facebook Replies'!J15 -> 0 | M16: ='Facebook Replies'!K15 -> 0 | N16: ='Facebook Replies'!L15 -> 0 | O16: ='Facebook ads'!P15 -> 0 | P16: ='Facebook ads'!Q15 -> 0 | Q16: ='Facebook ads'!R15 -> 0 | R16: ='Whats APP'!L15 -> 0 | S16: ='Whats APP'!M15 -> 0 | T16: ='Whats APP'!N15 -> 0 | U16: =Instagram!V15 -> very active | V16: =Instagram!W15 -> 0 | W16: =Instagram!X15 -> 0
A17: ='Facebook General'!A16 -> 0 | B17: ='Facebook General'!B16 -> 0 | C17: ='Facebook General'!O16 -> 0 | D17: ='Facebook General'!P16 -> 0 | E17: ='Facebook General'!Q16 -> 0 | F17: ='Facebook Shop & Tabs'!J16 -> 0 | G17: ='Facebook Shop & Tabs'!K16 -> 0 | H17: ='Facebook Shop & Tabs'!L16 -> 0 | I17: ='Facebook Content'!V16 -> 0 | J17: ='Facebook Content'!W16 -> 0 | K17: ='Facebook Content'!X16 -> 0 | L17: ='Facebook Replies'!J16 -> 0 | M17: ='Facebook Replies'!K16 -> 0 | N17: ='Facebook Replies'!L16 -> 0 | O17: ='Facebook ads'!P16 -> 0 | P17: ='Facebook ads'!Q16 -> 0 | Q17: ='Facebook ads'!R16 -> 0 | R17: ='Whats APP'!L16 -> 0 | S17: ='Whats APP'!M16 -> 0 | T17: ='Whats APP'!N16 -> 0 | U17: =Instagram!V16 -> 0 | V17: =Instagram!W16 -> 0 | W17: =Instagram!X16 -> 0
A18: ='Facebook General'!A17 -> OSS Middle East For Quality Certificates | B18: ='Facebook General'!B17 -> https://www.facebook.com/OSS4QualityAssurance | C18: ='Facebook General'!O17 -> website | D18: ='Facebook General'!P17 -> social links on website only | E18: ='Facebook General'!Q17 -> 0 | F18: ='Facebook Shop & Tabs'!J17 -> 0 | G18: ='Facebook Shop & Tabs'!K17 -> no services | H18: ='Facebook Shop & Tabs'!L17 -> 0 | I18: =#REF! -> #REF! | J18: =#REF! -> #REF! | K18: =#REF! -> #REF! | L18: ='Facebook Replies'!J17 -> 0 | M18: ='Facebook Replies'!K17 -> not a fast replier | N18: ='Facebook Replies'!L17 -> 0 | O18: ='Facebook ads'!P17 -> بيدرس كورس iso اونلاين ز ده احتياجه كبير اوي | P18: ='Facebook ads'!Q17 -> مش عامل عروض- و محتاج يحدد الفئه اللي هتاخد الكورس | Q18: ='Facebook ads'!R17 -> 0 | R18: ='Whats APP'!L17 -> 0 | S18: ='Whats APP'!M17 -> 0 | T18: ='Whats APP'!N17 -> 0 | U18: =Instagram!V17 -> 0 | V18: =Instagram!W17 -> 0 | W18: =Instagram!X17 -> 0
A19: ='Facebook General'!A18 -> 0 | B19: ='Facebook General'!B18 -> 0 | C19: ='Facebook General'!O18 -> 0 | D19: ='Facebook General'!P18 -> 0 | E19: ='Facebook General'!Q18 -> 0 | F19: ='Facebook Shop & Tabs'!J18 -> 0 | G19: ='Facebook Shop & Tabs'!K18 -> 0 | H19: ='Facebook Shop & Tabs'!L18 -> 0 | I19: =#REF! -> #REF! | J19: =#REF! -> #REF! | K19: =#REF! -> #REF! | L19: ='Facebook Replies'!J18 -> 0 | M19: ='Facebook Replies'!K18 -> 0 | N19: ='Facebook Replies'!L18 -> 0 | O19: ='Facebook ads'!P18 -> 0 | P19: ='Facebook ads'!Q18 -> 0 | Q19: ='Facebook ads'!R18 -> 0 | R19: ='Whats APP'!L18 -> 0 | S19: ='Whats APP'!M18 -> 0 | T19: ='Whats APP'!N18 -> 0 | U19: =Instagram!V18 -> 0 | V19: =Instagram!W18 -> 0 | W19: =Instagram!X18 -> 0
A20: ='Facebook General'!A19 -> 0 | B20: ='Facebook General'!B19 -> 0 | C20: ='Facebook General'!O19 -> 0 | D20: ='Facebook General'!P19 -> 0 | E20: ='Facebook General'!Q19 -> 0 | F20: ='Facebook Shop & Tabs'!J19 -> 0 | G20: ='Facebook Shop & Tabs'!K19 -> 0 | H20: ='Facebook Shop & Tabs'!L19 -> 0 | I20: =#REF! -> #REF! | J20: =#REF! -> #REF! | K20: =#REF! -> #REF! | L20: ='Facebook Replies'!J19 -> 0 | M20: ='Facebook Replies'!K19 -> 0 | N20: ='Facebook Replies'!L19 -> 0 | O20: ='Facebook ads'!P19 -> 0 | P20: ='Facebook ads'!Q19 -> 0 | Q20: ='Facebook ads'!R19 -> 0 | R20: ='Whats APP'!L19 -> 0 | S20: ='Whats APP'!M19 -> 0 | T20: ='Whats APP'!N19 -> 0 | U20: =Instagram!V19 -> 0 | V20: =Instagram!W19 -> 0 | W20: =Instagram!X19 -> 0
